BEGIN:VCALENDAR
VERSION:2.0
PRODID:-//wp-events-plugin.com//7.2.3.1//EN
TZID:Europe/Rome
X-WR-TIMEZONE:Europe/Rome
BEGIN:VEVENT
UID:8@vitatrentina.it
DTSTART;TZID=Europe/Rome:20210730T173000
DTEND;TZID=Europe/Rome:20210730T190000
DTSTAMP:20210715T075514Z
URL:https://www.vitatrentina.it/eventi/cantiere-famiglia-a-rovereto-la-qui
 nta-festa-di-vita-trentina-e-avvenire/
SUMMARY:Cantiere famiglia\, a Rovereto la quinta festa di Vita Trentina e A
 vvenire
DESCRIPTION:Dopo un anno di pausa imposta dalla pandemia\, ritorna per la q
 uinta edizione la festa di Vita Trentina e Avvenire\, momento di incontro 
 anche per i collaboratori\, i “fiduciari” e i lettori del nostro setti
 manale.\n\nNel rispetto delle misure anti Covid l’appuntamento sarà que
 st’anno per la prima volta a Rovereto venerdì 30 luglio\, con inizio al
 le 17.30 presso l’ampia aula circolare della chiesa roveretana della Sac
 ra Famiglia con la presenza del direttore di Avvenire Marco Tarquinio.\n\n
 Nell’anno dedicato alla “Famiglia Amoris laetitia” si è scelto d’
 intitolare la festa “Cantiere Famiglia” presentando la realtà avviata
  sette anni fa dalle parrocchie lagarine per rispondere ai bisogni delle f
 amiglie. Interverranno al dibattito\, aperto a tutti gli ospiti del Trenti
 no\, anche l’arcivescovo di Trento Lauro Tisi\, il parroco don Ivan Maff
 eis\, già direttore di Vita Trentina\, e il sindaco della Città della Qu
 ercia Francesco Valduga.\n\nPer Vita Trentina\, insieme al direttore Diego
  Andreatta\, interverrà l’ad Marcello Predelli\, a illustrare le novit
 à del settimanale nel 95° di fondazione.\n\n L’invito è aperto a tutt
 i i roveretani\, a tutti i lettori di Vita Trentina e Avvenire\, anche a q
 uelli in vacanza in Trentino.
ATTACH;FMTTYPE=image/jpeg:https://www.vitatrentina.it/wp-content/uploads/2
 021/07/cantiere_on_line-scaled.jpg
CATEGORIES:La festa di Vita Trentina e Avvenire
END:VEVENT
BEGIN:VTIMEZONE
TZID:Europe/Rome
X-LIC-LOCATION:Europe/Rome
BEGIN:DAYLIGHT
DTSTART:20210328T030000
TZOFFSETFROM:+0100
TZOFFSETTO:+0200
TZNAME:CEST
END:DAYLIGHT
END:VTIMEZONE
END:VCALENDAR